BEGIN:VCALENDAR
VERSION:2.0
PRODID:-//Hannover historisch ... - ECPv6.15.20//NONSGML v1.0//EN
CALSCALE:GREGORIAN
METHOD:PUBLISH
X-ORIGINAL-URL:https://hannover-historisch.de
X-WR-CALDESC:Veranstaltungen für Hannover historisch ...
REFRESH-INTERVAL;VALUE=DURATION:PT1H
X-Robots-Tag:noindex
X-PUBLISHED-TTL:PT1H
BEGIN:VTIMEZONE
TZID:Europe/Berlin
BEGIN:DAYLIGHT
TZOFFSETFROM:+0100
TZOFFSETTO:+0200
TZNAME:CEST
DTSTART:20240331T010000
END:DAYLIGHT
BEGIN:STANDARD
TZOFFSETFROM:+0200
TZOFFSETTO:+0100
TZNAME:CET
DTSTART:20241027T010000
END:STANDARD
BEGIN:DAYLIGHT
TZOFFSETFROM:+0100
TZOFFSETTO:+0200
TZNAME:CEST
DTSTART:20250330T010000
END:DAYLIGHT
BEGIN:STANDARD
TZOFFSETFROM:+0200
TZOFFSETTO:+0100
TZNAME:CET
DTSTART:20251026T010000
END:STANDARD
BEGIN:DAYLIGHT
TZOFFSETFROM:+0100
TZOFFSETTO:+0200
TZNAME:CEST
DTSTART:20260329T010000
END:DAYLIGHT
BEGIN:STANDARD
TZOFFSETFROM:+0200
TZOFFSETTO:+0100
TZNAME:CET
DTSTART:20261025T010000
END:STANDARD
END:VTIMEZONE
BEGIN:VEVENT
DTSTART;TZID=Europe/Berlin:20251202T170000
DTEND;TZID=Europe/Berlin:20251202T190000
DTSTAMP:20260419T141834
CREATED:20251001T124644Z
LAST-MODIFIED:20251001T194950Z
UID:3085-1764694800-1764702000@hannover-historisch.de
SUMMARY:WOK - Führung durch die Welt der Küchen und des Kochens
DESCRIPTION:Eine Perle der privaten Museumslandschaft entdecken wir in vorweihnachtlicher Stimmung:\nSzenisch gestaltete Arrangements mit viel Liebe zum Detail rund um den Esstisch laden zur Zeitreise in Küchenräume längst vergangener Zeiten oder zu Entdeckungen in Speisekammern anderer Kulturen.\nWir lassen uns ab 17 Uhr rund zwei Stunden lang sachkundig durch diese Wunderwelt führen.\nVorab stärken wir uns bei Kaffee und Kuchen auf freundliche Einladung aus unserem Freundeskreis. \nMaximal 15 Personen \nAnmeldung bis zum 15. November \nKosten 15 EUR (vor Ort zu zahlen) \nTreffpunkt: Schlosscafé neben dem WOK\, Spichernstrasse 22 \nAnmeldungen bitte per E-Mail an: veranstaltungen@ein-stueck-hannover.de  \nFür Mitglieder der „Freunde des Historischen Museums“ ist die Teilnahme kostenfrei. Gäste bitten wir um eine Spende von 5\,- Euro
URL:https://hannover-historisch.de/event/wok-fuehrung-durch-die-welt-der-kuechen-und-des-kochens/
LOCATION:Schlosscafé neben dem WOK\, Spichernstraße 22\, Hannover\, 30161
CATEGORIES:Führungen,Gespräch,weitere
ORGANIZER;CN="Freunde des Historischen Museums e.V.":MAILTO:veranstaltungen@ein-stueck-hannover.de
END:VEVENT
END:VCALENDAR