BEGIN:VCALENDAR
VERSION:2.0
PRODID:-//Hannover historisch ... - ECPv6.15.20//NONSGML v1.0//EN
CALSCALE:GREGORIAN
METHOD:PUBLISH
X-ORIGINAL-URL:https://hannover-historisch.de
X-WR-CALDESC:Veranstaltungen für Hannover historisch ...
REFRESH-INTERVAL;VALUE=DURATION:PT1H
X-Robots-Tag:noindex
X-PUBLISHED-TTL:PT1H
BEGIN:VTIMEZONE
TZID:Europe/Berlin
BEGIN:DAYLIGHT
TZOFFSETFROM:+0100
TZOFFSETTO:+0200
TZNAME:CEST
DTSTART:20250330T010000
END:DAYLIGHT
BEGIN:STANDARD
TZOFFSETFROM:+0200
TZOFFSETTO:+0100
TZNAME:CET
DTSTART:20251026T010000
END:STANDARD
BEGIN:DAYLIGHT
TZOFFSETFROM:+0100
TZOFFSETTO:+0200
TZNAME:CEST
DTSTART:20260329T010000
END:DAYLIGHT
BEGIN:STANDARD
TZOFFSETFROM:+0200
TZOFFSETTO:+0100
TZNAME:CET
DTSTART:20261025T010000
END:STANDARD
BEGIN:DAYLIGHT
TZOFFSETFROM:+0100
TZOFFSETTO:+0200
TZNAME:CEST
DTSTART:20270328T010000
END:DAYLIGHT
BEGIN:STANDARD
TZOFFSETFROM:+0200
TZOFFSETTO:+0100
TZNAME:CET
DTSTART:20271031T010000
END:STANDARD
END:VTIMEZONE
BEGIN:VEVENT
DTSTART;TZID=Europe/Berlin:20260307T110000
DTEND;TZID=Europe/Berlin:20260307T150000
DTSTAMP:20260424T103431
CREATED:20260217T140014Z
LAST-MODIFIED:20260217T115917Z
UID:3384-1772881200-1772895600@hannover-historisch.de
SUMMARY:Tag der Archive 2026: "Alte Heimat\, neue Heimat"\, hier: Hannover
DESCRIPTION:Zum 13. Mal findet deutschlandweit am 7./8. März 2026 der vom VdA – Verband deutscher Archivarinnen und Archivare e.V. veranstaltete „Tag der Archive“ statt. Zweck ist es\, die Öffentlichkeit auf die Bedeutung des Archivwesens aufmerksam zu machen. Dazu öffnen Archive ihre Türen und bieten ein breites Programmspektrum von Führungen\, Vorträgen\, Ausstellungen etc. an. \nIn diesem Jahr dreht sich alles um das Rahmenthema „Alte Heimat\, neue Heimat“. Im Fokus stehen u.a. Migrationsgeschichten seit dem Mittelalter aus Deutschland heraus und nach Deutschland hinein\, z.B. Auswanderungen nach Amerika oder Australien\, Ansiedlung von Vertriebenen und Flüchtlingen\, Arbeitsmigration etc. \nAuch das Nds. Landesarchiv\, Abt. Hannover\, wird sich am Samstag\, den 7. März  2026\, am „Tag der Archive“ beteiligen\, sowohl im Haupthaus in Hannover als auch in seiner Außenstelle in Pattensen. \nWas Sie in Hannover erwartet: \n\nab 12 Uhr stündliche Vorträge zum Landesarchiv\, zur migrationsgeschichtlichen Überlieferung im Stadtarchiv Hannover sowie Vorstellungen des Landesvereins für Familienkunde\neine kleine Archivalienausstellung und Präsentationen von Archivmitarbeitern zur Migrationsgeschichte in der eigenen Familie\nInformationen zu Ausbildungswegen im Archivwesen\nHilfestellungen zu Recherchen im Archivinformationssystem ARCINSYS
URL:https://hannover-historisch.de/event/tag-der-archive-2026-alte-heimat-neue-heimat/
LOCATION:Niedersächsisches Landesarchiv Hannover\, Am Archiv 1\, Hannover\, Niedersachsen\, 30169\, Deutschland
CATEGORIES:Ausstellungen,Vorführung,Vorträge,weitere
ATTACH;FMTTYPE=image/jpeg:https://hannover-historisch.de/wp-content/uploads/2026/02/TdA2026_Hannover.jpg
ORGANIZER;CN="Nieders%C3%A4chsisches Landesarchiv":MAILTO:Hannover@nla.niedersachsen.de
END:VEVENT
BEGIN:VEVENT
DTSTART;TZID=Europe/Berlin:20260307T120000
DTEND;TZID=Europe/Berlin:20260307T150000
DTSTAMP:20260424T103431
CREATED:20260217T140038Z
LAST-MODIFIED:20260217T114732Z
UID:3387-1772884800-1772895600@hannover-historisch.de
SUMMARY:Tag der Archive 2026: "Alte Heimat\, neue Heimat"\, hier: Pattensen
DESCRIPTION:Zum 13. Mal findet deutschlandweit am 7./8. März 2026 der vom VdA – Verband deutscher Archivarinnen und Archivare e.V. veranstaltete „Tag der Archive“ statt. Zweck ist es\, die Öffentlichkeit auf die Bedeutung des Archivwesens aufmerksam zu machen. Dazu öffnen Archive ihre Türen und bieten ein breites Programmspektrum von Führungen\, Vorträgen\, Ausstellungen etc. an. \nIn diesem Jahr dreht sich alles um das Rahmenthema „Alte Heimat\, neue Heimat“. Im Fokus stehen u.a. Migrationsgeschichten seit dem Mittelalter aus Deutschland heraus und nach Deutschland hinein\, z.B. Auswanderungen nach Amerika oder Australien\, Ansiedlung von Vertriebenen und Flüchtlingen\, Arbeitsmigration etc. \nAuch das Nds. Landesarchiv\, Abt. Hannover\, wird sich am Samstag\, den 7. März 2026\, am „Tag der Archive“ beteiligen\, sowohl im Haupthaus in Hannover als auch in seiner Außenstelle in Pattensen. \nWas Sie in Pattensen erwartet: \n\nab 12 Uhr halbstündliche Führungen im Gebäude inkl. den Magazinräumen (Beginn der letzten Führung: 14 Uhr)\nVorstellung der Restaurierungs- und Buchbinderwerkstatt im Haus\nHilfestellungen zu Recherchen im Archivinformationssystem ARCINSYS
URL:https://hannover-historisch.de/event/tag-der-archive-2026-alte-heimat-neue-heimat-hier-pattensen/
LOCATION:Nds. Landesarchiv\, Abt. Hannover\, Außenstelle Pattensen\, Lüderser Weg 2\, Pattensen\, Niedersachsen\, 30982\, Germany
CATEGORIES:Führungen,Vorführung,weitere
ATTACH;FMTTYPE=image/jpeg:https://hannover-historisch.de/wp-content/uploads/2026/02/TdA2026_Pattensen.jpg
ORGANIZER;CN="Nieders%C3%A4chsisches Landesarchiv":MAILTO:Hannover@nla.niedersachsen.de
END:VEVENT
END:VCALENDAR