BEGIN:VCALENDAR
VERSION:2.0
PRODID:-//Hannover historisch ... - ECPv6.15.20//NONSGML v1.0//EN
CALSCALE:GREGORIAN
METHOD:PUBLISH
X-WR-CALNAME:Hannover historisch ...
X-ORIGINAL-URL:https://hannover-historisch.de
X-WR-CALDESC:Veranstaltungen für Hannover historisch ...
REFRESH-INTERVAL;VALUE=DURATION:PT1H
X-Robots-Tag:noindex
X-PUBLISHED-TTL:PT1H
BEGIN:VTIMEZONE
TZID:Europe/Berlin
BEGIN:DAYLIGHT
TZOFFSETFROM:+0100
TZOFFSETTO:+0200
TZNAME:CEST
DTSTART:20240331T010000
END:DAYLIGHT
BEGIN:STANDARD
TZOFFSETFROM:+0200
TZOFFSETTO:+0100
TZNAME:CET
DTSTART:20241027T010000
END:STANDARD
BEGIN:DAYLIGHT
TZOFFSETFROM:+0100
TZOFFSETTO:+0200
TZNAME:CEST
DTSTART:20250330T010000
END:DAYLIGHT
BEGIN:STANDARD
TZOFFSETFROM:+0200
TZOFFSETTO:+0100
TZNAME:CET
DTSTART:20251026T010000
END:STANDARD
BEGIN:DAYLIGHT
TZOFFSETFROM:+0100
TZOFFSETTO:+0200
TZNAME:CEST
DTSTART:20260329T010000
END:DAYLIGHT
BEGIN:STANDARD
TZOFFSETFROM:+0200
TZOFFSETTO:+0100
TZNAME:CET
DTSTART:20261025T010000
END:STANDARD
END:VTIMEZONE
BEGIN:VEVENT
DTSTART;TZID=Europe/Berlin:20250805T164500
DTEND;TZID=Europe/Berlin:20250805T183000
DTSTAMP:20260419T224412
CREATED:20250630T112501Z
LAST-MODIFIED:20250630T121638Z
UID:2980-1754412300-1754418600@hannover-historisch.de
SUMMARY:„Vom Pferdebus zur Stadtbahn“ Jubiläumsfahrt mit ÜSTRA-Oldtimerbesichtigung
DESCRIPTION:Im September kann Hannover ein „mobiles“ Doppeljubiläum feiern: Am 15.September 1925 ging die „Kraft-Omnibus“-Linie in Betrieb\, am 26. September 1975 die erste U-Bahn-Strecke.\nWir fahren im wahrsten Sinne darauf zu: Fritz Faupel vom Förderverein STRASSENBAHN HANNOVER e.V. und Kurator für Kultureinrichtungen bei der ÜSTRA fährt uns mit dem Stadtbahn-Prototyp Tw601 (Bj. 1970) vom Kröpcke nach Döhren und zeigt uns in der Oldtimer-Halle der ÜSTRA historische Fahrzeuge.\nZurück geht es um ca. 18.20 Uhr mit der ersten grünen Stadtbahn Tw6001 (Bj. 1974). \nMaximal 30 Personen! \nAnmeldungen bitte per E-Mail an: veranstaltungen@ein-stueck-hannover.de  \nTreffpunkt: Verteilerebene U-Bahnstation Kröpcke\, Rolltreppe Bahnsteig Linien 1/2/8 Döhren u.a. \nFür Mitglieder der „Freunde des Historischen Museums“ ist die Teilnahme kostenfrei. Gäste bitten wir um eine Spende von 5\,- Euro
URL:https://hannover-historisch.de/event/vom-pferdebus-zur-stadtbahn-jubilaeumsfahrt-mit-uestra-oldtimerbesichtigung/
CATEGORIES:Führungen
ORGANIZER;CN="Freunde des Historischen Museums e.V.":MAILTO:veranstaltungen@ein-stueck-hannover.de
END:VEVENT
END:VCALENDAR