BEGIN:VCALENDAR
VERSION:2.0
PRODID:-//Hannover historisch ... - ECPv6.15.20//NONSGML v1.0//EN
CALSCALE:GREGORIAN
METHOD:PUBLISH
X-WR-CALNAME:Hannover historisch ...
X-ORIGINAL-URL:https://hannover-historisch.de
X-WR-CALDESC:Veranstaltungen für Hannover historisch ...
REFRESH-INTERVAL;VALUE=DURATION:PT1H
X-Robots-Tag:noindex
X-PUBLISHED-TTL:PT1H
BEGIN:VTIMEZONE
TZID:Europe/Berlin
BEGIN:DAYLIGHT
TZOFFSETFROM:+0100
TZOFFSETTO:+0200
TZNAME:CEST
DTSTART:20240331T010000
END:DAYLIGHT
BEGIN:STANDARD
TZOFFSETFROM:+0200
TZOFFSETTO:+0100
TZNAME:CET
DTSTART:20241027T010000
END:STANDARD
BEGIN:DAYLIGHT
TZOFFSETFROM:+0100
TZOFFSETTO:+0200
TZNAME:CEST
DTSTART:20250330T010000
END:DAYLIGHT
BEGIN:STANDARD
TZOFFSETFROM:+0200
TZOFFSETTO:+0100
TZNAME:CET
DTSTART:20251026T010000
END:STANDARD
BEGIN:DAYLIGHT
TZOFFSETFROM:+0100
TZOFFSETTO:+0200
TZNAME:CEST
DTSTART:20260329T010000
END:DAYLIGHT
BEGIN:STANDARD
TZOFFSETFROM:+0200
TZOFFSETTO:+0100
TZNAME:CET
DTSTART:20261025T010000
END:STANDARD
END:VTIMEZONE
BEGIN:VEVENT
DTSTART;TZID=Europe/Berlin:20251120T190000
DTEND;TZID=Europe/Berlin:20251120T203000
DTSTAMP:20260419T194712
CREATED:20251022T154251Z
LAST-MODIFIED:20251022T154926Z
UID:3194-1763665200-1763670600@hannover-historisch.de
SUMMARY:Prof. Dr. Andreas Deutsch (TU Dresden): Urformen der Sexualität: Wie Nathanael Pringsheim den Algen die Unschuld nahm
DESCRIPTION:Als Nathanael Pringsheim im 19. Jahrhundert die sexuelle Fortpflanzung bei Algen entdeckte\, war das eine wissenschaftliche Sensation. Mit dem Mikroskop öffnete er den Blick in eine neue Welt und zeigte\, dass Sexualität ein universelles Prinzip des Lebens ist. In seinem Vortrag stellt Andreas Deutsch sein neues Buch vor\, das dem jüdischen Wissenschaftler Nathanael Pringsheim und seiner wegweisenden Forschung an der Schwelle zur modernen Biologie gewidmet ist.
URL:https://hannover-historisch.de/event/prof-dr-andreas-deutsch-tu-dresden-urformen-der-sexualitaet-wie-nathanael-pringsheim-den-algen-die-unschuld-nahm/
LOCATION:Niedersächsisches Landesmuseum Hannover\, Willy-Brandt-Allee 5\, Hannover\, 30169\, Deutschland
CATEGORIES:Vorträge
ATTACH;FMTTYPE=image/jpeg:https://hannover-historisch.de/wp-content/uploads/2025/10/vortrag-2025-11-20-819x589-1.jpeg
ORGANIZER;CN="Naturhistorische Gesellschaft Hannover":MAILTO:info@N-G-H.org
END:VEVENT
END:VCALENDAR