BEGIN:VCALENDAR
VERSION:2.0
PRODID:-//Hannover historisch ... - ECPv6.15.20//NONSGML v1.0//EN
CALSCALE:GREGORIAN
METHOD:PUBLISH
X-ORIGINAL-URL:https://hannover-historisch.de
X-WR-CALDESC:Veranstaltungen für Hannover historisch ...
REFRESH-INTERVAL;VALUE=DURATION:PT1H
X-Robots-Tag:noindex
X-PUBLISHED-TTL:PT1H
BEGIN:VTIMEZONE
TZID:Europe/Berlin
BEGIN:DAYLIGHT
TZOFFSETFROM:+0100
TZOFFSETTO:+0200
TZNAME:CEST
DTSTART:20240331T010000
END:DAYLIGHT
BEGIN:STANDARD
TZOFFSETFROM:+0200
TZOFFSETTO:+0100
TZNAME:CET
DTSTART:20241027T010000
END:STANDARD
BEGIN:DAYLIGHT
TZOFFSETFROM:+0100
TZOFFSETTO:+0200
TZNAME:CEST
DTSTART:20250330T010000
END:DAYLIGHT
BEGIN:STANDARD
TZOFFSETFROM:+0200
TZOFFSETTO:+0100
TZNAME:CET
DTSTART:20251026T010000
END:STANDARD
BEGIN:DAYLIGHT
TZOFFSETFROM:+0100
TZOFFSETTO:+0200
TZNAME:CEST
DTSTART:20260329T010000
END:DAYLIGHT
BEGIN:STANDARD
TZOFFSETFROM:+0200
TZOFFSETTO:+0100
TZNAME:CET
DTSTART:20261025T010000
END:STANDARD
END:VTIMEZONE
BEGIN:VEVENT
DTSTART;TZID=Europe/Berlin:20251101T140000
DTEND;TZID=Europe/Berlin:20251101T153000
DTSTAMP:20260420T005549
CREATED:20251015T132213Z
LAST-MODIFIED:20251015T184225Z
UID:3178-1762005600-1762011000@hannover-historisch.de
SUMMARY:Das Römerlager Anreppen: Nachschub für Wilkenburg
DESCRIPTION:Tiberius überließ bei seinen Feldzügen nichts dem Zufall. Eine perfekte Logistik war das Rückrad seiner erfolgreichen Unternehmungen während des „immensum bellum“. Wie sonst hätten zehntausende Legionäre\, Angehörige der Hilfstruppen und des Trosses mit hunderten Pferden und Maultieren im Marschlager Wilkenburg verweilen können? \nIn diesem Zusammenhang spielt das Stand- und Versorgungslager Anreppen an der Lippe eine wichtige Rolle. Große Lagerbauten\, aber auch auffallend komfortable Gebäude für Offiziere fallen ins Auge. \nManfred Köllner\, Historiker Vorsitzender des Fördervereins Römerlager Anreppen e.V. gibt uns Einblicke in die Logistik des römischen Heeres. Wie funktionierte der Nachschub zu Wasser und zu Lande? Konnten in Anreppen Legionäre auch überwintern? \nWir freuen uns sehr über eine (erneute) Zusammenarbeit von Anreppen und Wilkenburg. … nach einer 2000-jährigen Unterbrechung!
URL:https://hannover-historisch.de/event/das-roemerlager-anreppen/
LOCATION:Römerlager Wilkenburg\, Dicken Riede\, Hemmingen-Wilkenburg\, 30966
CATEGORIES:Vorträge
END:VEVENT
END:VCALENDAR