BEGIN:VCALENDAR
VERSION:2.0
PRODID:-//Hannover historisch ... - ECPv6.15.20//NONSGML v1.0//EN
CALSCALE:GREGORIAN
METHOD:PUBLISH
X-ORIGINAL-URL:https://hannover-historisch.de
X-WR-CALDESC:Veranstaltungen für Hannover historisch ...
REFRESH-INTERVAL;VALUE=DURATION:PT1H
X-Robots-Tag:noindex
X-PUBLISHED-TTL:PT1H
BEGIN:VTIMEZONE
TZID:Europe/Berlin
BEGIN:DAYLIGHT
TZOFFSETFROM:+0100
TZOFFSETTO:+0200
TZNAME:CEST
DTSTART:20250330T010000
END:DAYLIGHT
BEGIN:STANDARD
TZOFFSETFROM:+0200
TZOFFSETTO:+0100
TZNAME:CET
DTSTART:20251026T010000
END:STANDARD
BEGIN:DAYLIGHT
TZOFFSETFROM:+0100
TZOFFSETTO:+0200
TZNAME:CEST
DTSTART:20260329T010000
END:DAYLIGHT
BEGIN:STANDARD
TZOFFSETFROM:+0200
TZOFFSETTO:+0100
TZNAME:CET
DTSTART:20261025T010000
END:STANDARD
BEGIN:DAYLIGHT
TZOFFSETFROM:+0100
TZOFFSETTO:+0200
TZNAME:CEST
DTSTART:20270328T010000
END:DAYLIGHT
BEGIN:STANDARD
TZOFFSETFROM:+0200
TZOFFSETTO:+0100
TZNAME:CET
DTSTART:20271031T010000
END:STANDARD
END:VTIMEZONE
BEGIN:VEVENT
DTSTART;TZID=Europe/Berlin:20260121T180000
DTEND;TZID=Europe/Berlin:20260121T193000
DTSTAMP:20260425T125836
CREATED:20251212T155958Z
LAST-MODIFIED:20251212T160745Z
UID:3262-1769018400-1769023800@hannover-historisch.de
SUMMARY:PraeHistorischer Salon 2026: "La Grotte Chauvet Chroniques Aurignaciennes" von Marc Azéma und Gilles Tosello
DESCRIPTION:Wie vor 40.000 Jahren die Kunst entstand (Graphic Novel) \nGelegentlich überschreitet der PraeHistorische Salon gerne die Grenzen des Genres des historischen Romans. So auch im Falle von Chauvet. Diese GraphicNovel schildert in großen Lebensbildern die ferne Welt der Eiszeit\, als Menschen erstmals Bilder erfanden\, um ihre stummen Botschaften mit Farben auf die Höhlenwände von Chauvet malen.\n35.000 Jahre später erzählen die Autoren\, beide Archäologen und Erforscher der Höhle\, mit modernen Bildern von der Entstehung der ersten Bildgeschichten. Sie verzichten bewusst auf Sprechblasen und setzen ganz auf die Wirkkraft ihrer Bilder.\nErreichen die Wissenschaftler ihr Ziel\, eine Vorstellung von der Entstehung der ältesten Kunst und ihrem Kontext zu vermitteln? \nModeration: Hannah Legatis (Journalistin und Schauspielerin)\nFachlicher Kommentare: Dr. Stephan Veil (Archäologe\, Landesverein)\, Katinka Kornacker (Medienwissenschaftlerin)\nStoryteller: Hannah Legatis \nEintritt: 8\,00 €\, ermäßigt 4\,00 €\, Mitglieder des Landesvereins frei
URL:https://hannover-historisch.de/event/praehistorischer-salon-2026-la-grotte-chauvet-chroniques-aurignaciennes-von-marc-azema-und-gilles-tosello/
LOCATION:Niedersächsisches Landesmuseum Hannover\, Willy-Brandt-Allee 5\, Hannover\, 30169\, Deutschland
CATEGORIES:Lesung
ATTACH;FMTTYPE=image/jpeg:https://hannover-historisch.de/wp-content/uploads/2025/12/PHS2026-1-La-Grotte-Chauvet.jpg
ORGANIZER;CN="Nieders%C3%A4chsischer Landesverein f%C3%BCr Urgeschichte e.V.":MAILTO:landesverein@gmx.de
END:VEVENT
END:VCALENDAR