BEGIN:VCALENDAR
VERSION:2.0
PRODID:-//Hannover historisch ... - ECPv6.15.20//NONSGML v1.0//EN
CALSCALE:GREGORIAN
METHOD:PUBLISH
X-WR-CALNAME:Hannover historisch ...
X-ORIGINAL-URL:https://hannover-historisch.de
X-WR-CALDESC:Veranstaltungen für Hannover historisch ...
REFRESH-INTERVAL;VALUE=DURATION:PT1H
X-Robots-Tag:noindex
X-PUBLISHED-TTL:PT1H
BEGIN:VTIMEZONE
TZID:Europe/Berlin
BEGIN:DAYLIGHT
TZOFFSETFROM:+0100
TZOFFSETTO:+0200
TZNAME:CEST
DTSTART:20240331T010000
END:DAYLIGHT
BEGIN:STANDARD
TZOFFSETFROM:+0200
TZOFFSETTO:+0100
TZNAME:CET
DTSTART:20241027T010000
END:STANDARD
BEGIN:DAYLIGHT
TZOFFSETFROM:+0100
TZOFFSETTO:+0200
TZNAME:CEST
DTSTART:20250330T010000
END:DAYLIGHT
BEGIN:STANDARD
TZOFFSETFROM:+0200
TZOFFSETTO:+0100
TZNAME:CET
DTSTART:20251026T010000
END:STANDARD
BEGIN:DAYLIGHT
TZOFFSETFROM:+0100
TZOFFSETTO:+0200
TZNAME:CEST
DTSTART:20260329T010000
END:DAYLIGHT
BEGIN:STANDARD
TZOFFSETFROM:+0200
TZOFFSETTO:+0100
TZNAME:CET
DTSTART:20261025T010000
END:STANDARD
END:VTIMEZONE
BEGIN:VEVENT
DTSTART;TZID=Europe/Berlin:20251028T134500
DTEND;TZID=Europe/Berlin:20251029T170000
DTSTAMP:20260426T005245
CREATED:20251022T153029Z
LAST-MODIFIED:20251022T153530Z
UID:3187-1761659100-1761757200@hannover-historisch.de
SUMMARY:Ökumenische Studientage "Religion unterrichten. Gemeinsam. Christlich. 1700 Jahre Nicaea und Christlicher Religionsunterricht in Niedersachsen"
DESCRIPTION:Im Jahr 325 verabschiedete das Konzil von Nicaea das trinitarische Glaubensbekenntnis. In diesem Jahr feiert dieses große ökumenische Dogma Jubiläum\, 1700 Jahre! \nEbenfalls in diesem Jahr geht in Niedersachsen eine Reform des Religionsunterrichts an den Start: Der gemeinsam verantwortete Christliche Religionsunterricht (CRU). \nZwei kirchenhistorische Vereine in Niedersachsen greifen diese beiden Themen auf und verbinden sie zu einer Studientagung. In Lüneburg und Hildesheim studieren künftige Religionslehrkräfte die Fächer evangelische oder katholische Religion. Schon bald werden sie einen gemeinsam verantworteten christlichen Religionsunterricht erteilen. \nDie Tagung findet jeweils in Hildesheim und in Lüneburg mit Zoom-Übertragung für den\nanderen Ort und für weitere Interessierte statt. Formate sind Referate\, Impulsbeiträge\, Workshop und eine Podiumsdiskussion. Die Ergebnisse werden in einer Veröffentlichung ediert. \nTagungsorte\n• Universität Hildesheim\, Universitätsplatz 1 (Hauptcampus)\, 31141 Hildesheim Gebäude K\n(HC.K.1\, Gr. Seminarraum/Musiksaal)\n• Leuphana Universität Lüneburg\, Universitätsallee 1\, 21335 Lüneburg\, Zentralgebäude C 40\, Raum 601 und 606 \nWeitere Informationen und Tagungsprogramm\nsiehe Flyer
URL:https://hannover-historisch.de/event/oekumenische-studientage-religion-unterrichten-gemeinsam-christlich-1700-jahre-nicaea-und-christlicher-religionsunterricht-in-niedersachsen/
LOCATION:Hildesheim und Lüneburg
CATEGORIES:Tagungen
ATTACH;FMTTYPE=image/jpeg:https://hannover-historisch.de/wp-content/uploads/2025/10/Studientage-GNKG.jpg
ORGANIZER;CN="Gesellschaft f%C3%BCr Nieders%C3%A4chsische Kirchengeschichte":MAILTO:thomas.kueck@evlka.de
END:VEVENT
END:VCALENDAR